BEGIN:VCALENDAR
VERSION:2.0
PRODID:-//Inter Europol Competition - ECPv4.5.1//NONSGML v1.0//EN
CALSCALE:GREGORIAN
METHOD:PUBLISH
X-WR-CALNAME:Inter Europol Competition
X-ORIGINAL-URL:https://test.intereuropolcompetition.pl/pl
X-WR-CALDESC:Events for Inter Europol Competition
BEGIN:VEVENT
DTSTART;VALUE=DATE:20240125
DTEND;VALUE=DATE:20240128
DTSTAMP:20260424T162644
CREATED:20231107T135217Z
LAST-MODIFIED:20231107T135217Z
UID:15480-1706140800-1706486399@test.intereuropolcompetition.pl
SUMMARY:Rolex 24 at Daytona
DESCRIPTION:
URL:https://test.intereuropolcompetition.pl/pl/event/rolex-24-at-daytona/
CATEGORIES:IMSA
ATTACH;FMTTYPE=image/png:https://test.intereuropolcompetition.pl/wp-content/uploads/2023/11/IMSA.png
END:VEVENT
BEGIN:VEVENT
DTSTART;VALUE=DATE:20240125
DTEND;VALUE=DATE:20240128
DTSTAMP:20260424T162644
CREATED:20231107T135217Z
LAST-MODIFIED:20231107T135217Z
UID:15791-1706140800-1706486399@test.intereuropolcompetition.pl
SUMMARY:Rolex 24 at Daytona
DESCRIPTION:
URL:https://test.intereuropolcompetition.pl/pl/event/rolex-24-at-daytona-2/
CATEGORIES:IMSA
ATTACH;FMTTYPE=image/png:https://test.intereuropolcompetition.pl/wp-content/uploads/2023/11/IMSA.png
END:VEVENT
END:VCALENDAR