BEGIN:VCALENDAR
VERSION:2.0
PRODID:-//Inter Europol Competition - ECPv4.5.1//NONSGML v1.0//EN
CALSCALE:GREGORIAN
METHOD:PUBLISH
X-WR-CALNAME:Inter Europol Competition
X-ORIGINAL-URL:https://test.intereuropolcompetition.pl/pl
X-WR-CALDESC:Events for Inter Europol Competition
BEGIN:VEVENT
DTSTART;VALUE=DATE:20240119
DTEND;VALUE=DATE:20240121
DTSTAMP:20260425T012851
CREATED:20231107T135009Z
LAST-MODIFIED:20231107T135009Z
UID:15477-1705622400-1705881599@test.intereuropolcompetition.pl
SUMMARY:Roar Before the Rolex 24
DESCRIPTION:
URL:https://test.intereuropolcompetition.pl/pl/event/roar-before-the-rolex-24/
CATEGORIES:IMSA
ATTACH;FMTTYPE=image/png:https://test.intereuropolcompetition.pl/wp-content/uploads/2023/11/IMSA.png
END:VEVENT
BEGIN:VEVENT
DTSTART;VALUE=DATE:20240119
DTEND;VALUE=DATE:20240121
DTSTAMP:20260425T012851
CREATED:20231107T135009Z
LAST-MODIFIED:20231107T135009Z
UID:15790-1705622400-1705881599@test.intereuropolcompetition.pl
SUMMARY:Roar Before the Rolex 24
DESCRIPTION:
URL:https://test.intereuropolcompetition.pl/pl/event/roar-before-the-rolex-24-2/
CATEGORIES:IMSA
ATTACH;FMTTYPE=image/png:https://test.intereuropolcompetition.pl/wp-content/uploads/2023/11/IMSA.png
END:VEVENT
END:VCALENDAR