BEGIN:VCALENDAR
VERSION:2.0
PRODID:-//Inter Europol Competition - ECPv4.5.1//NONSGML v1.0//EN
CALSCALE:GREGORIAN
METHOD:PUBLISH
X-WR-CALNAME:Inter Europol Competition
X-ORIGINAL-URL:https://test.intereuropolcompetition.pl/en
X-WR-CALDESC:Events for Inter Europol Competition
BEGIN:VEVENT
DTSTART;VALUE=DATE:20230210
DTEND;VALUE=DATE:20230212
DTSTAMP:20260424T155549
CREATED:20221205T100453Z
LAST-MODIFIED:20230526T105429Z
UID:7723-1675987200-1676246399@test.intereuropolcompetition.pl
SUMMARY:4 Hours of Dubai
DESCRIPTION:
URL:https://test.intereuropolcompetition.pl/en/event/dubai-2/
CATEGORIES:AsLMS
ATTACH;FMTTYPE=image/png:https://test.intereuropolcompetition.pl/wp-content/uploads/2023/05/alms169.png
END:VEVENT
BEGIN:VEVENT
DTSTART;VALUE=DATE:20230210
DTEND;VALUE=DATE:20230212
DTSTAMP:20260424T155549
CREATED:20221205T100453Z
LAST-MODIFIED:20221205T100453Z
UID:15768-1675987200-1676246399@test.intereuropolcompetition.pl
SUMMARY:4 Hours of Dubai
DESCRIPTION:
URL:https://test.intereuropolcompetition.pl/en/event/dubai-2-2/
CATEGORIES:AsLMS
ATTACH;FMTTYPE=image/png:https://test.intereuropolcompetition.pl/wp-content/uploads/2023/05/alms169.png
END:VEVENT
END:VCALENDAR